Package: omicsViewer Version: 1.10.0 Command: /home/biocbuild/bbs-3.20-bioc/R/bin/R CMD INSTALL omicsViewer StartedAt: 2025-02-03 16:09:35 -0500 (Mon, 03 Feb 2025) EndedAt: 2025-02-03 16:10:15 -0500 (Mon, 03 Feb 2025) EllapsedTime: 39.7 seconds RetCode: 0 Status: OK