Package: omicsViewer Version: 1.10.0 Command: chmod a+r omicsViewer -R && F:\biocbuild\bbs-3.20-bioc\R\bin\R.exe CMD build --keep-empty-dirs --no-resave-data omicsViewer StartedAt: 2025-01-30 20:38:20 -0500 (Thu, 30 Jan 2025) EndedAt: 2025-01-30 20:39:42 -0500 (Thu, 30 Jan 2025) EllapsedTime: 81.6 seconds RetCode: 0 Status: OK PackageFile: omicsViewer_1.10.0.tar.gz PackageFileSize: 4.325 MiB