Package: omicsViewer Version: 1.10.0 Command: F:\biocbuild\bbs-3.20-bioc\R\bin\R.exe CMD INSTALL omicsViewer StartedAt: 2025-02-03 17:04:33 -0500 (Mon, 03 Feb 2025) EndedAt: 2025-02-03 17:05:27 -0500 (Mon, 03 Feb 2025) EllapsedTime: 54.5 seconds RetCode: 0 Status: OK