Package: omicsViewer Version: 1.10.0 Command: /home/biocbuild/R/R/bin/R CMD build --keep-empty-dirs --no-resave-data omicsViewer StartedAt: 2025-02-04 01:32:21 -0000 (Tue, 04 Feb 2025) EndedAt: 2025-02-04 01:34:32 -0000 (Tue, 04 Feb 2025) EllapsedTime: 131.2 seconds RetCode: 0 Status: OK PackageFile: omicsViewer_1.10.0.tar.gz PackageFileSize: 4.387 MiB