Package: omicsViewer Version: 1.10.0 Command: /home/biocbuild/R/R/bin/R CMD INSTALL omicsViewer StartedAt: 2025-02-03 21:23:33 -0000 (Mon, 03 Feb 2025) EndedAt: 2025-02-03 21:24:15 -0000 (Mon, 03 Feb 2025) EllapsedTime: 42.4 seconds RetCode: 0 Status: OK