Package: ompBAM Version: 1.10.0 Command: /Library/Frameworks/R.framework/Resources/bin/R CMD build --keep-empty-dirs --no-resave-data ompBAM StartedAt: 2025-02-10 21:01:11 -0500 (Mon, 10 Feb 2025) EndedAt: 2025-02-10 21:01:52 -0500 (Mon, 10 Feb 2025) EllapsedTime: 41.3 seconds RetCode: 0 Status: OK PackageFile: ompBAM_1.10.0.tar.gz PackageFileSize: 3.142 MiB