Package: ompBAM Version: 1.10.0 Command: /home/biocbuild/bbs-3.20-bioc/R/bin/R CMD INSTALL ompBAM StartedAt: 2025-02-10 15:58:53 -0500 (Mon, 10 Feb 2025) EndedAt: 2025-02-10 15:58:56 -0500 (Mon, 10 Feb 2025) EllapsedTime: 2.2 seconds RetCode: 0 Status: OK