Package: oncomix Version: 1.28.0 Command: rm -rf oncomix.buildbin-libdir && mkdir oncomix.buildbin-libdir && /Users/biocbuild/BBS/utils/build-universal.sh oncomix_1.28.0.tar.gz /Library/Frameworks/R.framework/Resources/bin/R oncomix.buildbin-libdir StartedAt: 2025-02-05 17:01:15 -0500 (Wed, 05 Feb 2025) EndedAt: 2025-02-05 17:01:45 -0500 (Wed, 05 Feb 2025) EllapsedTime: 29.5 seconds RetCode: 0 Status: OK PackageFile: oncomix_1.28.0.tgz PackageFileSize: 2.467 MiB