Package: oncomix Version: 1.28.0 Command: rm -rf oncomix.buildbin-libdir && mkdir oncomix.buildbin-libdir && F:\biocbuild\bbs-3.20-bioc\R\bin\R.exe CMD INSTALL --build --library=oncomix.buildbin-libdir oncomix_1.28.0.tar.gz StartedAt: 2025-02-11 09:03:35 -0500 (Tue, 11 Feb 2025) EndedAt: 2025-02-11 09:04:22 -0500 (Tue, 11 Feb 2025) EllapsedTime: 47.4 seconds RetCode: 0 Status: OK PackageFile: oncomix_1.28.0.zip PackageFileSize: 1.721 MiB