Package: oncomix Version: 1.28.0 Command: F:\biocbuild\bbs-3.20-bioc\R\bin\R.exe CMD check --no-multiarch --install=check:oncomix.install-out.txt --library=F:\biocbuild\bbs-3.20-bioc\R\library --no-vignettes --timings oncomix_1.28.0.tar.gz StartedAt: 2025-02-04 04:34:23 -0500 (Tue, 04 Feb 2025) EndedAt: 2025-02-04 04:37:34 -0500 (Tue, 04 Feb 2025) EllapsedTime: 191.7 seconds RetCode: 0 Status: OK CheckDir: oncomix.Rcheck Warnings: 0