Package: oncomix Version: 1.28.0 Command: /home/biocbuild/R/R/bin/R CMD build --keep-empty-dirs --no-resave-data oncomix StartedAt: 2025-02-11 01:18:49 -0000 (Tue, 11 Feb 2025) EndedAt: 2025-02-11 01:19:55 -0000 (Tue, 11 Feb 2025) EllapsedTime: 65.1 seconds RetCode: 0 Status: OK PackageFile: oncomix_1.28.0.tar.gz PackageFileSize: 1.885 MiB