Package: onlineFDR Version: 2.14.0 Command: /Library/Frameworks/R.framework/Resources/bin/R CMD build --keep-empty-dirs --no-resave-data onlineFDR StartedAt: 2025-02-04 04:58:42 -0500 (Tue, 04 Feb 2025) EndedAt: 2025-02-04 04:59:28 -0500 (Tue, 04 Feb 2025) EllapsedTime: 45.8 seconds RetCode: 1 Status: ERROR PackageFile: None PackageFileSize: NA