Package: onlineFDR Version: 2.14.0 Command: /Library/Frameworks/R.framework/Resources/bin/R CMD INSTALL onlineFDR StartedAt: 2025-02-03 15:14:05 -0500 (Mon, 03 Feb 2025) EndedAt: 2025-02-03 15:14:43 -0500 (Mon, 03 Feb 2025) EllapsedTime: 38.5 seconds RetCode: 0 Status: OK