Package: onlineFDR Version: 2.14.0 Command: /Library/Frameworks/R.framework/Resources/bin/R CMD build --keep-empty-dirs --no-resave-data onlineFDR StartedAt: 2025-02-03 21:00:29 -0500 (Mon, 03 Feb 2025) EndedAt: 2025-02-03 21:01:59 -0500 (Mon, 03 Feb 2025) EllapsedTime: 90.1 seconds RetCode: 0 Status: OK PackageFile: onlineFDR_2.14.0.tar.gz PackageFileSize: 1.921 MiB