Package: onlineFDR Version: 2.14.0 Command: /home/biocbuild/bbs-3.20-bioc/R/bin/R CMD INSTALL onlineFDR StartedAt: 2025-02-03 15:15:13 -0500 (Mon, 03 Feb 2025) EndedAt: 2025-02-03 15:16:11 -0500 (Mon, 03 Feb 2025) EllapsedTime: 57.9 seconds RetCode: 0 Status: OK