Package: onlineFDR Version: 2.14.0 Command: rm -rf onlineFDR.buildbin-libdir && mkdir onlineFDR.buildbin-libdir && F:\biocbuild\bbs-3.20-bioc\R\bin\R.exe CMD INSTALL --build --library=onlineFDR.buildbin-libdir onlineFDR_2.14.0.tar.gz StartedAt: 2025-02-04 09:06:34 -0500 (Tue, 04 Feb 2025) EndedAt: 2025-02-04 09:07:35 -0500 (Tue, 04 Feb 2025) EllapsedTime: 61.3 seconds RetCode: 0 Status: OK PackageFile: onlineFDR_2.14.0.zip PackageFileSize: 1.602 MiB