Package: onlineFDR Version: 2.14.0 Command: chmod a+r onlineFDR -R && F:\biocbuild\bbs-3.20-bioc\R\bin\R.exe CMD build --keep-empty-dirs --no-resave-data onlineFDR StartedAt: 2025-02-03 20:55:35 -0500 (Mon, 03 Feb 2025) EndedAt: 2025-02-03 20:56:52 -0500 (Mon, 03 Feb 2025) EllapsedTime: 76.4 seconds RetCode: 0 Status: OK PackageFile: onlineFDR_2.14.0.tar.gz PackageFileSize: 1.913 MiB