Package: onlineFDR Version: 2.14.0 Command: /home/biocbuild/R/R/bin/R CMD INSTALL onlineFDR StartedAt: 2025-02-03 20:23:46 -0000 (Mon, 03 Feb 2025) EndedAt: 2025-02-03 20:24:56 -0000 (Mon, 03 Feb 2025) EllapsedTime: 70.5 seconds RetCode: 0 Status: OK