Package: ontoProc Version: 2.0.0 Command: rm -rf ontoProc.buildbin-libdir && mkdir ontoProc.buildbin-libdir && /Users/biocbuild/BBS/utils/build-universal.sh ontoProc_2.0.0.tar.gz /Library/Frameworks/R.framework/Resources/bin/R ontoProc.buildbin-libdir StartedAt: 2025-02-12 16:15:21 -0500 (Wed, 12 Feb 2025) EndedAt: 2025-02-12 16:16:04 -0500 (Wed, 12 Feb 2025) EllapsedTime: 43.0 seconds RetCode: 0 Status: OK PackageFile: ontoProc_2.0.0.tgz PackageFileSize: 10.89 MiB