Package: ontoProc Version: 2.0.0 Command: /Library/Frameworks/R.framework/Resources/bin/R CMD build --keep-empty-dirs --no-resave-data ontoProc StartedAt: 2025-02-10 21:02:47 -0500 (Mon, 10 Feb 2025) EndedAt: 2025-02-10 21:16:11 -0500 (Mon, 10 Feb 2025) EllapsedTime: 803.8 seconds RetCode: 0 Status: OK PackageFile: ontoProc_2.0.0.tar.gz PackageFileSize: 12.98 MiB