Package: ontoProc Version: 2.0.0 Command: /Library/Frameworks/R.framework/Resources/bin/R CMD check --install=check:ontoProc.install-out.txt --library=/Library/Frameworks/R.framework/Resources/library --no-vignettes --timings ontoProc_2.0.0.tar.gz StartedAt: 2025-02-04 07:30:39 -0500 (Tue, 04 Feb 2025) EndedAt: 2025-02-04 07:57:53 -0500 (Tue, 04 Feb 2025) EllapsedTime: 1634.3 seconds RetCode: 0 Status: OK CheckDir: ontoProc.Rcheck Warnings: 0