Package: ontoProc Version: 2.0.0 Command: /home/biocbuild/bbs-3.20-bioc/R/bin/R CMD build --keep-empty-dirs --no-resave-data --md5 ontoProc StartedAt: 2025-02-10 18:27:39 -0500 (Mon, 10 Feb 2025) EndedAt: 2025-02-10 18:30:09 -0500 (Mon, 10 Feb 2025) EllapsedTime: 150.2 seconds RetCode: 0 Status: OK PackageFile: ontoProc_2.0.0.tar.gz PackageFileSize: 13.56 MiB