Package: ontoProc Version: 2.0.0 Command: /home/biocbuild/R/R/bin/R CMD build --keep-empty-dirs --no-resave-data ontoProc StartedAt: 2025-02-04 01:35:58 -0000 (Tue, 04 Feb 2025) EndedAt: 2025-02-04 01:47:04 -0000 (Tue, 04 Feb 2025) EllapsedTime: 666.0 seconds RetCode: 0 Status: OK PackageFile: ontoProc_2.0.0.tar.gz PackageFileSize: 13.03 MiB