Package: openCyto Version: 2.18.0 Command: /Library/Frameworks/R.framework/Resources/bin/R CMD build --keep-empty-dirs --no-resave-data openCyto StartedAt: 2025-01-31 04:51:40 -0500 (Fri, 31 Jan 2025) EndedAt: 2025-01-31 04:53:04 -0500 (Fri, 31 Jan 2025) EllapsedTime: 83.8 seconds RetCode: 0 Status: OK PackageFile: openCyto_2.18.0.tar.gz PackageFileSize: 2.467 MiB