Package: openCyto Version: 2.18.0 Command: /Library/Frameworks/R.framework/Resources/bin/R CMD INSTALL openCyto StartedAt: 2025-02-03 15:35:40 -0500 (Mon, 03 Feb 2025) EndedAt: 2025-02-03 15:36:41 -0500 (Mon, 03 Feb 2025) EllapsedTime: 60.6 seconds RetCode: 0 Status: OK