Package: openCyto Version: 2.18.0 Command: rm -rf openCyto.buildbin-libdir && mkdir openCyto.buildbin-libdir && F:\biocbuild\bbs-3.20-bioc\R\bin\R.exe CMD INSTALL --build --library=openCyto.buildbin-libdir openCyto_2.18.0.tar.gz StartedAt: 2025-01-31 09:13:15 -0500 (Fri, 31 Jan 2025) EndedAt: 2025-01-31 09:14:40 -0500 (Fri, 31 Jan 2025) EllapsedTime: 85.0 seconds RetCode: 0 Status: OK PackageFile: openCyto_2.18.0.zip PackageFileSize: 1.945 MiB