Package: openCyto Version: 2.18.0 Command: chmod a+r openCyto -R && F:\biocbuild\bbs-3.20-bioc\R\bin\R.exe CMD build --keep-empty-dirs --no-resave-data openCyto StartedAt: 2025-02-03 20:55:44 -0500 (Mon, 03 Feb 2025) EndedAt: 2025-02-03 21:03:51 -0500 (Mon, 03 Feb 2025) EllapsedTime: 486.6 seconds RetCode: 0 Status: OK PackageFile: openCyto_2.18.0.tar.gz PackageFileSize: 1.047 MiB