Package: openCyto Version: 2.18.0 Command: /home/biocbuild/R/R/bin/R CMD check --install=check:openCyto.install-out.txt --library=/home/biocbuild/R/R/site-library --no-vignettes --timings openCyto_2.18.0.tar.gz StartedAt: 2025-01-31 08:51:13 -0000 (Fri, 31 Jan 2025) EndedAt: 2025-01-31 08:54:05 -0000 (Fri, 31 Jan 2025) EllapsedTime: 172.2 seconds RetCode: 0 Status: WARNINGS CheckDir: openCyto.Rcheck Warnings: 4