Package: openPrimeR Version: 1.28.0 Command: rm -rf openPrimeR.buildbin-libdir && mkdir openPrimeR.buildbin-libdir && /Users/biocbuild/BBS/utils/build-universal.sh openPrimeR_1.28.0.tar.gz /Library/Frameworks/R.framework/Resources/bin/R openPrimeR.buildbin-libdir StartedAt: 2025-02-05 17:01:35 -0500 (Wed, 05 Feb 2025) EndedAt: 2025-02-05 17:02:11 -0500 (Wed, 05 Feb 2025) EllapsedTime: 36.1 seconds RetCode: 0 Status: OK PackageFile: openPrimeR_1.28.0.tgz PackageFileSize: 3.074 MiB