Package: openPrimeR Version: 1.28.0 Command: /Library/Frameworks/R.framework/Resources/bin/R CMD INSTALL openPrimeR StartedAt: 2025-02-03 16:42:00 -0500 (Mon, 03 Feb 2025) EndedAt: 2025-02-03 16:43:06 -0500 (Mon, 03 Feb 2025) EllapsedTime: 66.5 seconds RetCode: 0 Status: OK