Package: openPrimeR Version: 1.28.0 Command: /home/biocbuild/bbs-3.20-bioc/R/bin/R CMD check --install=check:openPrimeR.install-out.txt --library=/home/biocbuild/bbs-3.20-bioc/R/site-library --timings openPrimeR_1.28.0.tar.gz StartedAt: 2025-02-04 00:53:07 -0500 (Tue, 04 Feb 2025) EndedAt: 2025-02-04 00:57:11 -0500 (Tue, 04 Feb 2025) EllapsedTime: 244.3 seconds RetCode: 0 Status: OK CheckDir: openPrimeR.Rcheck Warnings: 0