Package: openPrimeR Version: 1.28.0 Command: /home/biocbuild/bbs-3.20-bioc/R/bin/R CMD INSTALL openPrimeR StartedAt: 2025-02-03 16:04:55 -0500 (Mon, 03 Feb 2025) EndedAt: 2025-02-03 16:05:24 -0500 (Mon, 03 Feb 2025) EllapsedTime: 29.1 seconds RetCode: 0 Status: OK