Package: oppar Version: 1.34.0 Command: rm -rf oppar.buildbin-libdir && mkdir oppar.buildbin-libdir && /Users/biocbuild/BBS/utils/build-universal.sh oppar_1.34.0.tar.gz /Library/Frameworks/R.framework/Resources/bin/R oppar.buildbin-libdir StartedAt: 2025-02-04 13:42:04 -0500 (Tue, 04 Feb 2025) EndedAt: 2025-02-04 13:44:13 -0500 (Tue, 04 Feb 2025) EllapsedTime: 129.3 seconds RetCode: 0 Status: OK PackageFile: oppar_1.34.0.tgz PackageFileSize: 5.321 MiB