Package: oppar Version: 1.34.0 Command: /Library/Frameworks/R.framework/Resources/bin/R CMD check --install=check:oppar.install-out.txt --library=/Library/Frameworks/R.framework/Resources/library --no-vignettes --timings oppar_1.34.0.tar.gz StartedAt: 2025-02-04 07:31:59 -0500 (Tue, 04 Feb 2025) EndedAt: 2025-02-04 07:42:46 -0500 (Tue, 04 Feb 2025) EllapsedTime: 646.6 seconds RetCode: 0 Status: WARNINGS CheckDir: oppar.Rcheck Warnings: 2