Package: oppar Version: 1.34.0 Command: /Library/Frameworks/R.framework/Resources/bin/R CMD INSTALL oppar StartedAt: 2025-02-03 16:36:02 -0500 (Mon, 03 Feb 2025) EndedAt: 2025-02-03 16:37:20 -0500 (Mon, 03 Feb 2025) EllapsedTime: 78.5 seconds RetCode: 0 Status: OK