Package: oppar Version: 1.34.0 Command: chmod a+r oppar -R && F:\biocbuild\bbs-3.20-bioc\R\bin\R.exe CMD build --keep-empty-dirs --no-resave-data oppar StartedAt: 2025-02-10 20:50:27 -0500 (Mon, 10 Feb 2025) EndedAt: 2025-02-10 20:51:52 -0500 (Mon, 10 Feb 2025) EllapsedTime: 84.5 seconds RetCode: 0 Status: OK PackageFile: oppar_1.34.0.tar.gz PackageFileSize: 3.379 MiB