Package: oppti Version: 1.20.0 Command: /Library/Frameworks/R.framework/Resources/bin/R CMD check --install=check:oppti.install-out.txt --library=/Library/Frameworks/R.framework/Resources/library --no-vignettes --timings oppti_1.20.0.tar.gz StartedAt: 2025-02-12 03:57:01 -0500 (Wed, 12 Feb 2025) EndedAt: 2025-02-12 03:58:06 -0500 (Wed, 12 Feb 2025) EllapsedTime: 64.9 seconds RetCode: 0 Status: WARNINGS CheckDir: oppti.Rcheck Warnings: 1