Package: oppti Version: 1.20.0 Command: /Library/Frameworks/R.framework/Resources/bin/R CMD INSTALL oppti StartedAt: 2025-02-10 17:07:18 -0500 (Mon, 10 Feb 2025) EndedAt: 2025-02-10 17:07:26 -0500 (Mon, 10 Feb 2025) EllapsedTime: 8.3 seconds RetCode: 0 Status: OK