Package: oppti Version: 1.20.0 Command: rm -rf oppti.buildbin-libdir && mkdir oppti.buildbin-libdir && /Users/biocbuild/BBS/utils/build-universal.sh oppti_1.20.0.tar.gz /Library/Frameworks/R.framework/Resources/bin/R oppti.buildbin-libdir StartedAt: 2025-02-04 13:42:05 -0500 (Tue, 04 Feb 2025) EndedAt: 2025-02-04 13:42:33 -0500 (Tue, 04 Feb 2025) EllapsedTime: 27.9 seconds RetCode: 0 Status: OK PackageFile: oppti_1.20.0.tgz PackageFileSize: 100.5 KiB