Package: oppti Version: 1.20.0 Command: /home/biocbuild/bbs-3.20-bioc/R/bin/R CMD build --keep-empty-dirs --no-resave-data --md5 oppti StartedAt: 2025-02-03 18:35:33 -0500 (Mon, 03 Feb 2025) EndedAt: 2025-02-03 18:35:54 -0500 (Mon, 03 Feb 2025) EllapsedTime: 21.0 seconds RetCode: 0 Status: OK PackageFile: oppti_1.20.0.tar.gz PackageFileSize: 75.68 KiB