Package: oppti Version: 1.20.0 Command: /home/biocbuild/bbs-3.20-bioc/R/bin/R CMD check --install=check:oppti.install-out.txt --library=/home/biocbuild/bbs-3.20-bioc/R/site-library --timings oppti_1.20.0.tar.gz StartedAt: 2025-02-11 00:44:28 -0500 (Tue, 11 Feb 2025) EndedAt: 2025-02-11 00:45:33 -0500 (Tue, 11 Feb 2025) EllapsedTime: 65.0 seconds RetCode: 0 Status: WARNINGS CheckDir: oppti.Rcheck Warnings: 1