Package: optimalFlow Version: 1.18.0 Command: rm -rf optimalFlow.buildbin-libdir && mkdir optimalFlow.buildbin-libdir && /Users/biocbuild/BBS/utils/build-universal.sh optimalFlow_1.18.0.tar.gz /Library/Frameworks/R.framework/Resources/bin/R optimalFlow.buildbin-libdir StartedAt: 2025-02-01 16:06:38 -0500 (Sat, 01 Feb 2025) EndedAt: 2025-02-01 16:07:02 -0500 (Sat, 01 Feb 2025) EllapsedTime: 24.0 seconds RetCode: 0 Status: OK PackageFile: optimalFlow_1.18.0.tgz PackageFileSize: 1.099 MiB