Package: optimalFlow Version: 1.18.0 Command: /Library/Frameworks/R.framework/Resources/bin/R CMD build --keep-empty-dirs --no-resave-data optimalFlow StartedAt: 2025-01-31 04:55:00 -0500 (Fri, 31 Jan 2025) EndedAt: 2025-01-31 05:00:46 -0500 (Fri, 31 Jan 2025) EllapsedTime: 346.5 seconds RetCode: 0 Status: OK PackageFile: optimalFlow_1.18.0.tar.gz PackageFileSize: 1.271 MiB