Package: optimalFlow Version: 1.18.0 Command: /Library/Frameworks/R.framework/Resources/bin/R CMD check --install=check:optimalFlow.install-out.txt --library=/Library/Frameworks/R.framework/Resources/library --no-vignettes --timings optimalFlow_1.18.0.tar.gz StartedAt: 2025-02-01 03:49:29 -0500 (Sat, 01 Feb 2025) EndedAt: 2025-02-01 03:53:35 -0500 (Sat, 01 Feb 2025) EllapsedTime: 246.6 seconds RetCode: 0 Status: OK CheckDir: optimalFlow.Rcheck Warnings: 0