Package: optimalFlow Version: 1.18.0 Command: /Library/Frameworks/R.framework/Resources/bin/R CMD INSTALL optimalFlow StartedAt: 2024-11-08 15:30:58 -0500 (Fri, 08 Nov 2024) EndedAt: 2024-11-08 15:31:04 -0500 (Fri, 08 Nov 2024) EllapsedTime: 6.5 seconds RetCode: 0 Status: OK