Package: optimalFlow Version: 1.18.0 Command: rm -rf optimalFlow.buildbin-libdir && mkdir optimalFlow.buildbin-libdir && /Users/biocbuild/BBS/utils/build-universal.sh optimalFlow_1.18.0.tar.gz /Library/Frameworks/R.framework/Resources/bin/R optimalFlow.buildbin-libdir StartedAt: 2025-02-04 13:42:08 -0500 (Tue, 04 Feb 2025) EndedAt: 2025-02-04 13:43:08 -0500 (Tue, 04 Feb 2025) EllapsedTime: 59.4 seconds RetCode: 0 Status: OK PackageFile: optimalFlow_1.18.0.tgz PackageFileSize: 1.1 MiB