Package: optimalFlow Version: 1.18.0 Command: /Library/Frameworks/R.framework/Resources/bin/R CMD build --keep-empty-dirs --no-resave-data optimalFlow StartedAt: 2025-02-03 21:01:51 -0500 (Mon, 03 Feb 2025) EndedAt: 2025-02-03 21:17:18 -0500 (Mon, 03 Feb 2025) EllapsedTime: 926.8 seconds RetCode: 0 Status: OK PackageFile: optimalFlow_1.18.0.tar.gz PackageFileSize: 1.272 MiB