Package: optimalFlow Version: 1.18.0 Command: /Library/Frameworks/R.framework/Resources/bin/R CMD check --install=check:optimalFlow.install-out.txt --library=/Library/Frameworks/R.framework/Resources/library --no-vignettes --timings optimalFlow_1.18.0.tar.gz StartedAt: 2025-02-04 07:33:45 -0500 (Tue, 04 Feb 2025) EndedAt: 2025-02-04 07:44:32 -0500 (Tue, 04 Feb 2025) EllapsedTime: 647.2 seconds RetCode: 0 Status: OK CheckDir: optimalFlow.Rcheck Warnings: 0