Package: optimalFlow Version: 1.18.0 Command: /Library/Frameworks/R.framework/Resources/bin/R CMD INSTALL optimalFlow StartedAt: 2025-02-03 16:00:12 -0500 (Mon, 03 Feb 2025) EndedAt: 2025-02-03 16:00:53 -0500 (Mon, 03 Feb 2025) EllapsedTime: 41.7 seconds RetCode: 0 Status: OK