Package: optimalFlow Version: 1.18.0 Command: chmod a+r optimalFlow -R && F:\biocbuild\bbs-3.20-bioc\R\bin\R.exe CMD build --keep-empty-dirs --no-resave-data optimalFlow StartedAt: 2025-02-03 20:57:20 -0500 (Mon, 03 Feb 2025) EndedAt: 2025-02-03 21:07:56 -0500 (Mon, 03 Feb 2025) EllapsedTime: 636.3 seconds RetCode: 0 Status: OK PackageFile: optimalFlow_1.18.0.tar.gz PackageFileSize: 935.5 KiB